BEGIN:VCALENDAR
VERSION:2.0
PRODID:-//Dublin 360 - ECPv6.15.20//NONSGML v1.0//EN
CALSCALE:GREGORIAN
METHOD:PUBLISH
X-WR-CALNAME:Dublin 360
X-ORIGINAL-URL:https://dublin-360.com
X-WR-CALDESC:Events for Dublin 360
REFRESH-INTERVAL;VALUE=DURATION:PT1H
X-Robots-Tag:noindex
X-PUBLISHED-TTL:PT1H
BEGIN:VTIMEZONE
TZID:Europe/Dublin
BEGIN:STANDARD
TZOFFSETFROM:+0000
TZOFFSETTO:+0100
TZNAME:IST
DTSTART:20250330T010000
END:STANDARD
BEGIN:DAYLIGHT
TZOFFSETFROM:+0100
TZOFFSETTO:+0000
TZNAME:GMT
DTSTART:20251026T010000
END:DAYLIGHT
BEGIN:STANDARD
TZOFFSETFROM:+0000
TZOFFSETTO:+0100
TZNAME:IST
DTSTART:20260329T010000
END:STANDARD
BEGIN:DAYLIGHT
TZOFFSETFROM:+0100
TZOFFSETTO:+0000
TZNAME:GMT
DTSTART:20261025T010000
END:DAYLIGHT
BEGIN:STANDARD
TZOFFSETFROM:+0000
TZOFFSETTO:+0100
TZNAME:IST
DTSTART:20270328T010000
END:STANDARD
BEGIN:DAYLIGHT
TZOFFSETFROM:+0100
TZOFFSETTO:+0000
TZNAME:GMT
DTSTART:20271031T010000
END:DAYLIGHT
END:VTIMEZONE
BEGIN:VEVENT
DTSTART;TZID=Europe/Dublin:20260815T150000
DTEND;TZID=Europe/Dublin:20260815T163000
DTSTAMP:20260419T155152
CREATED:20260402T102805Z
LAST-MODIFIED:20260416T102808Z
UID:20271-1786806000-1786811400@dublin-360.com
SUMMARY:Drag Brunch at The Bernard Shaw
DESCRIPTION:Every Saturday at The Bernard Shaw\n\n\nSpend your Saturday the right way at The Bernard Shaw’s Drag Brunch — a fun afternoon of great food\, good vibes\, and fabulous drag performances. Tickets are €5 per person and guarantee your seat for the 3PM or 5PM show. Every guest needs a ticket to attend. \nYou can also add our Food & Drinks package (€40)\, which includes a main and three brunch drinks — perfect for brunching\, sipping\, and celebrating with friends.
URL:https://dublin-360.com/event/drag-brunch-at-the-bernard-shaw-29
LOCATION:The Bernard Shaw\, Cross Guns Bridge\, D09 XW44 Dublin 9\, Dublin 9\, D09 XW44\, IE
CATEGORIES:Live Music
ATTACH;FMTTYPE=image/jpeg:https://dublin-360.com/wp-content/uploads/2025/10/15130_image.jpg
END:VEVENT
BEGIN:VEVENT
DTSTART;TZID=Europe/Dublin:20260815T170000
DTEND;TZID=Europe/Dublin:20260815T183000
DTSTAMP:20260419T155152
CREATED:20260402T102805Z
LAST-MODIFIED:20260416T102808Z
UID:20272-1786813200-1786818600@dublin-360.com
SUMMARY:Drag Brunch at The Bernard Shaw
DESCRIPTION:Every Saturday at The Bernard Shaw\n\n\nSpend your Saturday the right way at The Bernard Shaw’s Drag Brunch — a fun afternoon of great food\, good vibes\, and fabulous drag performances. Tickets are €5 per person and guarantee your seat for the 3PM or 5PM show. Every guest needs a ticket to attend. \nYou can also add our Food & Drinks package (€40)\, which includes a main and three brunch drinks — perfect for brunching\, sipping\, and celebrating with friends.
URL:https://dublin-360.com/event/drag-brunch-at-the-bernard-shaw-30
LOCATION:The Bernard Shaw\, Cross Guns Bridge\, D09 XW44 Dublin 9\, Dublin 9\, D09 XW44\, IE
CATEGORIES:Live Music
ATTACH;FMTTYPE=image/jpeg:https://dublin-360.com/wp-content/uploads/2025/10/15130_image.jpg
END:VEVENT
END:VCALENDAR